BEGIN:VCALENDAR
VERSION:2.0
PRODID:-//Vikings Sports - ECPv4.7.3//NONSGML v1.0//EN
CALSCALE:GREGORIAN
METHOD:PUBLISH
X-WR-CALNAME:Vikings Sports
X-ORIGINAL-URL:https://vikingssportsclub.com.au
X-WR-CALDESC:Events for Vikings Sports
BEGIN:VEVENT
DTSTART;TZID=Australia/Sydney:20200222T170000
DTEND;TZID=Australia/Sydney:20200222T194500
DTSTAMP:20200229T060832
CREATED:20181031T063141Z
LAST-MODIFIED:20181031T063141Z
UID:10813-1582390800-1582400700@vikingssportsclub.com.au
SUMMARY:Spin - a - Fortune
DESCRIPTION:Win a share of up to $26\,000 every week! \n\nThursday & Saturday: Check-in from 5.00pm\, drawn from 7.30pm\nHow to enter: Members will receive one (1) entry ticket into the draw upon swiping their Membership card at the Membership terminal during the check-in period and placing their ticket into the barrel. \n*Terms and conditions are available at Reception. Promotion open to Members of Parramatta Leagues Club and Vikings Sports Club. Authorised under NSW Permit Number LTPM/19/04950. \n\n
URL:https://vikingssportsclub.com.au/event/wheel-of-fortune/2020-02-22/
CATEGORIES:Promotions
ATTACH;FMTTYPE=image/jpeg:https://vikingssportsclub.com.au/content/uploads/2018/10/SpinAFortune_WebTile.jpg
END:VEVENT
END:VCALENDAR